BEGIN:VCALENDAR
VERSION:2.0
PRODID:-//Lodge on Loch Lomond - ECPv6.15.14//NONSGML v1.0//EN
CALSCALE:GREGORIAN
METHOD:PUBLISH
X-ORIGINAL-URL:https://www.loch-lomond.co.uk
X-WR-CALDESC:Events for Lodge on Loch Lomond
REFRESH-INTERVAL;VALUE=DURATION:PT1H
X-Robots-Tag:noindex
X-PUBLISHED-TTL:PT1H
BEGIN:VTIMEZONE
TZID:Europe/London
BEGIN:DAYLIGHT
TZOFFSETFROM:+0000
TZOFFSETTO:+0100
TZNAME:BST
DTSTART:20180325T010000
END:DAYLIGHT
BEGIN:STANDARD
TZOFFSETFROM:+0100
TZOFFSETTO:+0000
TZNAME:GMT
DTSTART:20181028T010000
END:STANDARD
BEGIN:DAYLIGHT
TZOFFSETFROM:+0000
TZOFFSETTO:+0100
TZNAME:BST
DTSTART:20190331T010000
END:DAYLIGHT
BEGIN:STANDARD
TZOFFSETFROM:+0100
TZOFFSETTO:+0000
TZNAME:GMT
DTSTART:20191027T010000
END:STANDARD
BEGIN:DAYLIGHT
TZOFFSETFROM:+0000
TZOFFSETTO:+0100
TZNAME:BST
DTSTART:20200329T010000
END:DAYLIGHT
BEGIN:STANDARD
TZOFFSETFROM:+0100
TZOFFSETTO:+0000
TZNAME:GMT
DTSTART:20201025T010000
END:STANDARD
END:VTIMEZONE
BEGIN:VEVENT
DTSTART;TZID=Europe/London:20190125T190000
DTEND;TZID=Europe/London:20190126T000000
DTSTAMP:20260421T041847
CREATED:20190116T144356Z
LAST-MODIFIED:20190116T144356Z
UID:10599-1548442800-1548460800@www.loch-lomond.co.uk
SUMMARY:Burns Night by Loch Lomond
DESCRIPTION:Burns Night by Loch Lomond\nGlengoyne Whisky Dinner  – In Partnership with Glengoyne \nFriday 25th January 2019 | 7pm to midnight \nThis Burns Night we are offering an evening of excellent Scottish Food and a few wee drams of the good stuff to accompany and complement each course. \nA lovely evening of tasting and sampling or make a night of it and stay over! \nBurns Menu \n£49pp\n4 course menu inclusive of drinks \n**\nA Glengoyne Cocktail on arrival and paired whisky with each course. \n**\nTo find out more or book\, call 01436 860119\nor email events@loch-lomond.co.uk \n\n\n\n  \nDownload PDF brochure – Click Here \nBook a Room to not miss out on this special Scottish occassion at the Lodge on Loch Lomond – To Book A Table Contact Our Events Team Here: Contact Us
URL:https://www.loch-lomond.co.uk/event/burns-night-by-loch-lomond/
LOCATION:Lodge on Loch Lomond\, Lodge on Loch Lomond\, Luss\, Argyle and Bute\, G838PA\, United Kingdom
CATEGORIES:Burns Night
ATTACH;FMTTYPE=image/jpeg:https://www.loch-lomond.co.uk/wp-content/uploads/2017/12/Glengoyne-burns-night-lodge-on-loch-lomond.jpg
END:VEVENT
END:VCALENDAR